BEGIN:VCALENDAR
VERSION:2.0
PRODID:-//ChamberMaster//Event Calendar 2.0//EN
METHOD:PUBLISH
X-PUBLISHED-TTL:P3D
REFRESH-INTERVAL:P3D
CALSCALE:GREGORIAN
BEGIN:VEVENT
DTSTART:20260617T160000Z
DTEND:20260617T220000Z
X-MICROSOFT-CDO-ALLDAYEVENT:FALSE
SUMMARY:Blood Drive with American Red Cross
DESCRIPTION:Our February blood drive effort was so successful\, we're doing it again! Summer is a time of critical need for blood donation. \n\n\n\nStay tuned for registration link.
X-ALT-DESC;FMTTYPE=text/html:Our February blood drive effort was so successful\, we&#39\;re doing it again! Summer is a time of critical need for blood donation.&nbsp\;<br />\n<br />\nStay tuned for registration link.&nbsp\;
LOCATION:YWCA of Southern Arizona 525 N Bonita Ave\, Tucson
UID:e.2682.11174
SEQUENCE:3
DTSTAMP:20260420T222414Z
URL:https://members.tucsonlgbtchamber.org/events/details/blood-drive-with-american-red-cross-11174
END:VEVENT

END:VCALENDAR
