BEGIN:VCALENDAR
VERSION:2.0
PRODID:-//ChamberMaster//Event Calendar 2.0//EN
METHOD:PUBLISH
X-PUBLISHED-TTL:P3D
REFRESH-INTERVAL:P3D
CALSCALE:GREGORIAN
BEGIN:VEVENT
DTSTART:20210213T230000Z
DTEND:20210214T010000Z
X-MICROSOFT-CDO-ALLDAYEVENT:FALSE
SUMMARY:Bouquet of Kisses! Art Fundraiser for the LGBT Foundation Scholarships
DESCRIPTION:Join artist Lex Gjurasic for a fun\, low pressure\, guided painting event to help raise funds for Tucson LGBT Chamber of Commerce Foundation's University of Arizona scholarship for LGBTQ+ students!\n\nTogether\, with Lex's step-by-step instruction\, we will paint a bouquet of kisses!\n\nWhen you sign-up you will receive a recommended supply list for the project with direct links to a LGBTQ friendly retailer. If you already own art supplies feel free to use your own.\n\nThis project is inclusive to all levels of creativity and skill. Do not feel intimidated\, it's going to be playful. No one will be forced to share their final results unless they feel comfortable.\n\nGet registered\, get your supplies ready\, and get ready to have fun!
X-ALT-DESC;FMTTYPE=text/html:<p>Join artist Lex Gjurasic for a fun\, low pressure\,&nbsp\;guided painting event to help raise funds for <a href="http://tucsonlgbtfoundation.org">Tucson LGBT Chamber of Commerce Foundation&rsquo\;s</a> University of Arizona scholarship for LGBTQ+ students!</p>\n\n<p>Together\, with Lex&#39\;s step-by-step instruction\, we will paint a bouquet of kisses!</p>\n\n<p>When you sign-up you will receive a recommended supply list for the project with direct links to a LGBTQ friendly retailer. If you already own art supplies feel free to use your own.</p>\n\n<p>This project is inclusive to all levels of creativity and skill. Do not feel intimidated\, it&rsquo\;s going to be playful. No one will be forced to share their final results unless they feel comfortable.</p>\n\n<p>Get registered\, get your supplies ready\, and get ready to have fun!</p>\n
LOCATION:Zoom -- Link & supplies list sent on registration
UID:e.2682.7300
SEQUENCE:3
DTSTAMP:20260421T044027Z
URL:https://members.tucsonlgbtchamber.org/events/details/bouquet-of-kisses-art-fundraiser-for-the-lgbt-foundation-scholarships-7300
END:VEVENT

END:VCALENDAR
