BEGIN:VCALENDAR
VERSION:2.0
PRODID:-//ChamberMaster//Event Calendar 2.0//EN
METHOD:PUBLISH
X-PUBLISHED-TTL:P3D
REFRESH-INTERVAL:P3D
CALSCALE:GREGORIAN
BEGIN:VEVENT
DTSTART:20260618T143000Z
DTEND:20260618T163000Z
X-MICROSOFT-CDO-ALLDAYEVENT:FALSE
SUMMARY:Breakfast with the Gaymber
DESCRIPTION:The PRIDE Breakfast! Stay tuned for program details.
X-ALT-DESC;FMTTYPE=text/html:<p style="margin: 0px\; font-stretch: normal\; line-height: normal\;">The PRIDE Breakfast! Stay tuned for program details.&nbsp\;</p>\n
LOCATION:YWCA of Southern Arizona
UID:e.2682.11173
SEQUENCE:3
DTSTAMP:20260420T210832Z
URL:https://members.tucsonlgbtchamber.org/events/details/breakfast-with-the-gaymber-11173
END:VEVENT

END:VCALENDAR
