BEGIN:VCALENDAR
VERSION:2.0
PRODID:-//ChamberMaster//Event Calendar 2.0//EN
METHOD:PUBLISH
X-PUBLISHED-TTL:P3D
REFRESH-INTERVAL:P3D
CALSCALE:GREGORIAN
BEGIN:VEVENT
DTSTART:20201020T183000Z
DTEND:20201020T193000Z
X-MICROSOFT-CDO-ALLDAYEVENT:FALSE
SUMMARY:VIRTUAL Therapeutic Foster Care Day Info Session
DESCRIPTION:If you have experience working with children or adults\, don't miss this FREE Virtual Information Session.  Find out how you can use your skills and receive TAX-FREE INCOME by becoming a Therapeutic Foster Parent.  \n\n\n\nDevereux staff will discuss the differences between child and adult therapeutic foster parenting and the skills needed to truly make a difference in the lives of some of Arizona's most vulnerable citizens.  Listen to Devereux licensed Therapeutic Foster Parents talk about their experience and answer your questions.\n\n\n\nFor more information and to register to the session\, visit: http://www.devereuxazfostercare.org/
X-ALT-DESC;FMTTYPE=text/html:<span style="font-size:14px"><strong>If you have experience working with children or adults\,</strong> don&#39\;t miss this FREE Virtual Information Session.&nbsp\; Find out how you can use your skills and <strong>receive TAX-FREE INCOME</strong> by becoming a Therapeutic Foster Parent.&nbsp\;&nbsp\;<br />\n<br />\nDevereux staff will discuss the differences between child and adult therapeutic foster parenting and the skills needed to truly make a difference in the lives of some of Arizona&#39\;s most vulnerable citizens.&nbsp\; Listen to Devereux licensed Therapeutic Foster Parents talk about their experience and answer your questions.<br />\n<br />\n<strong>For more information and to register to the session\, visit:</strong>&nbsp\;<a href="http://www.devereuxazfostercare.org/">http://www.devereuxazfostercare.org/</a><br />\n&nbsp\;</span>
LOCATION:Virtual-ONLINE
UID:e.2682.6918
SEQUENCE:3
DTSTAMP:20260420T013146Z
URL:https://members.tucsonlgbtchamber.org/events/details/virtual-therapeutic-foster-care-day-info-session-10-20-2020-6918
END:VEVENT

END:VCALENDAR
